View In:
ArcGIS JavaScript
ArcGIS Online Map Viewer
ArcGIS Earth
Service Description: Externt/Markhojd
Name: Externt/Markhojd
Description:
Single Fused Map Cache: true
Tile Info:
- Height: 256
- Width: 256
- DPI: 96
-
Levels of Detail: 11
- Format: LERC
- Compression Quality: 0.0
- LERC Error: 0.2
- Origin: X: -5473200.0
Y: 1.00021E7
- Spatial Reference: 3010
(3010)
LatestVCSWkid(0)
Storage Info:
- Storage Format: esriMapCacheStorageModeCompactV2
- Packet Size: 128
Extent:
XMin: 117500.0
YMin: 6332500.0
XMax: 170000.0
YMax: 6390000.0
Spatial Reference: 3010
(3010)
LatestVCSWkid(0)
Initial Extent:
XMin: 117500.0
YMin: 6332500.0
XMax: 170000.0
YMax: 6390000.0
Spatial Reference: 3010
(3010)
LatestVCSWkid(0)
Full Extent:
XMin: 117500.0
YMin: 6332500.0
XMax: 170000.0
YMax: 6390000.0
Spatial Reference: 3010
(3010)
LatestVCSWkid(0)
Pixel Size X: 1.0
Pixel Size Y: 1.0
Band Count: 1
Pixel Type: F32
RasterFunction Infos: {"rasterFunctionInfos": [{
"name": "None",
"description": "",
"help": ""
}]}
Mensuration Capabilities: Basic
Inspection Capabilities:
Has Histograms: true
Has Colormap: false
Has Multi Dimensions : false
Rendering Rule:
Min Scale: 1024000
Max Scale: 1000
Min LOD: 0
Max LOD: 10
Copyright Text:
Service Data Type: esriImageServiceDataTypeGeneric
Min Values: -19.253068923950195
Max Values: 157.153076171875
Mean Values: 42.03084949341771
Standard Deviation Values: 38.60519557583912
Object ID Field:
Fields:
None
Default Mosaic Method: Center
Allowed Mosaic Methods:
SortField:
SortValue: null
Mosaic Operator: First
Default Compression Quality: 75
Default Resampling Method: Bilinear
Max Record Count: null
Max Image Height: 4100
Max Image Width: 15000
Max Download Image Count: null
Max Mosaic Image Count: null
Allow Raster Function: true
Allow Copy: true
Allow Analysis: true
Allow Compute TiePoints: false
Supports Statistics: false
Supports Advanced Queries: false
Use StandardizedQueries: true
Raster Type Infos:
Name: Raster Dataset
Description: Supports all ArcGIS Raster Datasets
Help:
Has Raster Attribute Table: false
Edit Fields Info: null
Ownership Based AccessControl For Rasters: null
Child Resources:
Info
Histograms
Statistics
Key Properties
Legend
Raster Function Infos
Supported Operations:
Export Image
Identify
Measure
Compute Histograms
Compute Statistics Histograms
Get Samples
Compute Class Statistics
Query Boundary
Compute Pixel Location
Compute Angles
Validate
Project